BEGIN:VCALENDAR
VERSION:2.0
PRODID:-//Европейский правозащитный диалог - ECPv5.16.3.1//NONSGML v1.0//EN
CALSCALE:GREGORIAN
METHOD:PUBLISH
X-WR-CALNAME:Европейский правозащитный диалог
X-ORIGINAL-URL:https://www.human-rights-year.com
X-WR-CALDESC:Мероприятия для Европейский правозащитный диалог
BEGIN:VTIMEZONE
TZID:Europe/Berlin
BEGIN:DAYLIGHT
TZOFFSETFROM:+0100
TZOFFSETTO:+0200
TZNAME:CEST
DTSTART:20190331T010000
END:DAYLIGHT
BEGIN:STANDARD
TZOFFSETFROM:+0200
TZOFFSETTO:+0100
TZNAME:CET
DTSTART:20191027T010000
END:STANDARD
END:VTIMEZONE
BEGIN:VEVENT
DTSTART;TZID=Europe/Berlin:20191030T170000
DTEND;TZID=Europe/Berlin:20191030T200000
DTSTAMP:20260423T022456
CREATED:20190910T115419Z
LAST-MODIFIED:20191030T165930Z
UID:839-1572454800-1572465600@www.human-rights-year.com
SUMMARY:Штутгарт / День российского политзаключенного. Начало серии лекций
DESCRIPTION:День российского политзаключенного в Штутгарте \nОТКРЫТИЕ СЕРИИ ЛЕКЦИЙ «ПРАВА ЧЕЛОВЕКА И ПРОПАГАНДА: ЭКСПЕРТИЗА ИЗ РОССИИ» \nЛекция с переводом\nКогда: 17.00 — 20.00\nГде: Haus der Geschichte\, Otto-Borst-Saal\nKonrad-Adenauer-Str. 16\, 70173 Stuttgart \nПрава человека и пропаганда: экспертиза из России\nВстреча с правозащитниками\, журналистами и деятелями культуры из России \nИсторик и журналист Николай Руденский проводит подробный «химический» анализ российской телевизионной пропаганды.\nПравозащитник Дмитрий Пискунов расскажет о борьбе против пыток и произвола на Северном Кавказе.\nПоэт Лев Рубинштейн помогает понять\, как современная русская культура стремится установить религиозно-патриотическую связь.\nБывший политзаключенный Алексей Полихович рассказывает свою личную историю сопротивления.\nПолитик Юлия Галямина рассказывает о том\, как вместо Мосгордумы оказалась в полицейской камере. \nПосле выступлений будет живое общение между гостями вечера и спикерами. Предполагается скайп-конференция с участниками вечера с защиту политзаключенных в Москве. \nБудем рады видеть всех интересующихся ситуацией в России. \nВход свободный! Мероприятие проходит на русском языке\, с синхронным переводом на немецкий. Регистрация по ссылке: https://forms.gle/j22KMpVorKaLNHsu8 \nМероприятие реализуется в рамках проекта Форума русскоязычных европейцев\, при поддержке МИДа Германии и участии российского правозащитного центра «Мемориал». \n  \nМероприятие на Facebook\n  \nIllustration (CC) Metro Centric \n  \n 
URL:https://www.human-rights-year.com/event/shtutgart-nachalo-serii-lekcij/
LOCATION:Stuttgart\, Haus der Geschichte\, Otto-Borst-Saal Konrad-Adenauer-Str. 16\, 70173\, Stuttgart\, Deutschland
CATEGORIES:Мероприятия
ATTACH;FMTTYPE=image/jpeg:https://www.human-rights-year.com/wp-content/uploads/2019/09/41102663942_5b2c0aa3c6_k.jpg
ORGANIZER;CN="Forum%20russischsprachiger%20Europ%C3%A4er%20e.V.%20%E2%80%A2%20FRE%20e.V.":MAILTO:eurorussianforum@gmail.com
END:VEVENT
END:VCALENDAR