BEGIN:VCALENDAR
VERSION:2.0
PRODID:-//Европейский правозащитный диалог - ECPv5.16.3.1//NONSGML v1.0//EN
CALSCALE:GREGORIAN
METHOD:PUBLISH
X-WR-CALNAME:Европейский правозащитный диалог
X-ORIGINAL-URL:https://www.human-rights-year.com
X-WR-CALDESC:Мероприятия для Европейский правозащитный диалог
BEGIN:VTIMEZONE
TZID:Europe/Berlin
BEGIN:DAYLIGHT
TZOFFSETFROM:+0100
TZOFFSETTO:+0200
TZNAME:CEST
DTSTART:20220327T010000
END:DAYLIGHT
BEGIN:STANDARD
TZOFFSETFROM:+0200
TZOFFSETTO:+0100
TZNAME:CET
DTSTART:20221030T010000
END:STANDARD
END:VTIMEZONE
BEGIN:VEVENT
DTSTART;TZID=Europe/Berlin:20221209T100000
DTEND;TZID=Europe/Berlin:20221210T180000
DTSTAMP:20260422T042900
CREATED:20221102T112849Z
LAST-MODIFIED:20221207T210958Z
UID:4629-1670580000-1670695200@www.human-rights-year.com
SUMMARY:Конференция «Российское гражданское общество внутри страны и вне ее против войны\, за права человека»
DESCRIPTION:Конференция «Российское гражданское общество внутри  \nстраны и вне ее против войны\, за права человека» \n9-10 декабря 2022 года\, 10.00 – 18.30 \nbUm (Paul-Linke-Ufer\, 21\, 10999\, Berlin) \nСсылки на онлайн-трансляцию \n9.12. De — https://youtu.be/Bav_UJsFen0 \n9.12. Ru — https://youtu.be/zfTViyh8FhE \n10.12. De — https://youtu.be/Ss-SjDUj-os \n10.12. Ru — https://youtu.be/v-TQ528lH5g \nРегистрация на конференцию \nDeutsch-russischer Menschenrechtsdialog e.V.\, проект «Поддержка политзаключенных. Мемориал»\, Ассоциация „O wolną Rosję” при поддержке МИД Германии приглашают принять участие в конференции «Российское гражданское общество внутри страны и вне ее против войны\, за права человека». В этом году она пройдет в Берлине 9 — 10 декабря. В конференции примут участие известные ученые\, правозащитники\, общественные деятели из разных стран. Мероприятие пройдет в офлайн- и онлайн-форматах.  \nМы проводим такие конференции в Берлине каждый декабрь и ежегодно подводим на них итоги развития ситуации с правами человека в России\, а в последнее время ещё и в Беларуси\, обсуждаем способы поддержки гражданского общества в условиях диктатуры и формулируем по этому поводу рекомендации властям и обществам европейских стран. \nС каждым годом ситуация с правами человека становилась все тяжелее\, но в этом году мы встречаемся и разговариваем в ситуации катастрофы. Путинский режим ведет войну против Украины\, разрушает мировой порядок\, уничтожает последние остатки прав и свобод человека внутри страны. \nПо оценкам экспертов\, не менее миллиона человек покинули Россию после 24 февраля. Они оказались между молотом репрессий диктатуры внутри страны и наковальней бремени ответственности за действия России. Новая реальность\, формируемая\, в первую очередь\, войной\, а во-вторую\, появлением новой России за ее государственными границами\, ставит перед нами новые вопросы. \nКак помочь Украине и украинцам\, а также антивоенному движению в России\, как спасти тех\, кто\, оставаясь в ней\, сталкивается с угрозами\, что делать в новых условиях?  \nЭти ответы пытаются найти многочисленные инициативы объединения и координации россиян\, выступающих против войны\, стремящихся создать свободную\, демократическую Россию. Наша конференция рассчитывает стать органической частью и важным этапом этой публичной дискуссии. Мы хотим не только и не столько зафиксировать новое падение стандартов прав человека в России и Беларуси\, но и совместными усилиями выработать свою позицию и предложения по изменению ситуации как внутри России\, так и в сообществах россиян вне ее. \nПрограмма мероприятия  \n9 декабря \n10.00 – 10.15\nОткрытие конференции \nПриветственное слово: Даниель Демеле\, референт по сотрудничеству гражданского общества со странами Восточного партнерства и России\, МИД ФРГ. \n10.15 – 11.30\nСитуация с правами человека в России и Беларуси в 2022 году \n\nИван Белоусов\, координатор благотворительного фонда помощи осуждённым и из семьям «Русь Сидящая»\, член правления Freies Russland NRW\nСергей Давидис\, руководитель Проекта «Поддержка политзаключенных. Мемориал»\nМаксим Руст\, доктор политических наук\, политаналитик\, исследователь и преподаватель Центра Восточноевропейских Исследований Варшавского Университета (SEW UW) и секретарь Аналитической Группы BELARUS-UKRAINE-REGION\nДенис Шедов\, аналитик ОВД-Инфо\, член совета ЦЗПЧ Мемориал\, приглашенный исследователь Свободного Университета Берлина\n\nМодератор: Евгения Чирикова\, координатор портала Activatica.org\, помощь украинским беженцам и российским активистам \n11.30 – 11.45\nКофе-брейк \n11.45 – 13.00\nНарушения прав жителей Украины в результате вооружённой агрессии РФ. Инициативы россиян по помощи украинским беженцам \n\nИрина Гурская\, волонтер пензенской инициативы помощи беженцам из Украины\nЕвгений Лямин\, сооснователь проекта помощи украинским беженцам в Грузии Emigration for Action\nЕлена Таращанская\, волонтер проекта Russians for Ukraine\nЕвгения Чирикова\, координатор портала Activatica.org\, помощь украинским беженцам и российским активистам\n\nМодератор: Сергей Лукашевский\, исполнительный директор Сахаровского центра \n13.00 – 14.00\nКофе-брейк \n14.00 – 15.15\nРоссия и россияне в ситуации войны — новая реальность. Чего ожидать и что делать? \n\nСергей Ерофеев\, исследовательский профессор\, Ратгерский университет\, США. В прошлом – проректор Высшей школы экономики\, Москва\n Иван Жданов\, директор ФБК\nСергей Лукашевский\, исполнительный директор Сахаровского центра\nИван Преображенский\, независимый политический аналитик\, колумнист Deutsche Welle\, член Пражского антивоенного комитета\n Игорь Эйдман\, руководитель проекта «Европейский правозащитный диалог»\, политолог\, социолог\n\nМодератор: Денис Билунов\, cоциолог (Карлов университет\, Прага)\, соучредитель Пражского Российского антивоенного комитета \n15.15 – 15.30\nКофе-брейк \n15.30 – 16.45\nКак помочь россиянам\, бегущим от мобилизации и репрессий \n\nДарья Белова\, инициатива inTransit\nСергей Лагодинский\, депутат Европарламента\nАлексей Садомовский\, координатор проекта «Ковчег» в Польше\nАлексей Табалов\, правозащитник\, директор правозащитной организации «Школа призывника»\nВитис Юрконис\, политолог\, директор проектов фонда Freedom House\n\nМодератор: Сергей Давидис\, руководитель Проекта «Поддержка политзаключенных. Мемориал» \n16.45 – 17.00\nКофе-брейк \n17.00 – 18.30\nЗадачи и запросы российского гражданского общества внутри страны и вне ее. Антивоенные\, правозащитные\, политические инициативы \n\nАлексей Козлов\, координатор правозащитных программ Freies Russland Berlin\nТимофей Мартыненко\, активист молодежного демократического движения «Весна»\nИван Тютрин\, сооснователь Форума свободной России\, член Российского Комитета Действия\nСветлана Шмелева\, исполнительный директор благотворительного фонда в Черногории «Pristanište» помощи беженцам от войны в Украине и репрессий в России и Беларуси\n\nМодератор: Анастасия Буракова\, юрист\, основатель проекта «Ковчег» \n10 декабря \n10.00 – 11.15\nПолитизация и другие изменения общественного сознания российской диаспоры: причины\, проявления\, динамика \n\nДенис Билунов\, cоциолог (Карлов университет\, Прага)\, соучредитель Пражского Российского антивоенного комитета\nСергей Ерофеев\, исследовательский профессор\, Ратгерский университет\, США. В прошлом – проректор Высшей школы экономики\, Москва\nФедор Крашенинников\, политический аналитик\, публицист и общественный деятель\nСветлана Чуйкина\, иследовательница\, аспирантка департамента Медиа и Коммуникаций\, Университет Карлстада (Швеция). Специализация — аудитории\, активизм\, и конструирование социальных движений в период датификации и платформизации обществ.\n\nМодератор: Иван Преображенский\, независимый политический аналитик\, колумнист Deutsche Welle\, член Пражского антивоенного комитета \n11.15 – 11.30\nКофе-брейк \n11.30 – 12.45\nСубъектность и политическое представительство российской диаспоры. Нужна ли их формализация? Как её выстраивать? Эффективность vs. инклюзивность. Нужно ли разделение россиян диаспоры на “хороших” и “плохих”? Если нужно\, то по каким основаниям и как организованное? \n\nАнастасия Буракова\, юрист\, основатель проекта «Ковчег»\nИван Преображенский\, независимый политический аналитик\, колумнист Deutsche Welle\, член Пражского антивоенного комитета\nАнастасия Сергеева\, председатель Ассоциации «O Wolną Rosję»\nИван Тютрин\, сооснователь Форума свободной России\, член Российского Комитета Действия\n\nМодератор: Сергей Давидис\, руководитель Проекта «Поддержка политзаключенных. Мемориал» \n12.45 – 13.45\nОбед \n13.45 – 15.00\nСтатус россиян в Европе после 24.02.22. Общая ситуация и ситуация отдельных групп. \n\nДарья Дадли\, инициатива Demokrati-JA\, правозащитница\nШтефан Мелле\, руководитель Austausch e.V.\nАндреас Хайнеманн-Грюдер\, политолог\, социолог\, BICC (Bonn International Center for Conversion)\nВитис Юрконис\, политолог\, директор проектов фонда Freedom House\n\nМодератор: Анастасия Сергеева\, председатель Ассоциации «O Wolną Rosję» \n15.00 – 15.15\nКофе-брейк \n15.15 – 16.30\nФеномен “отмены” российской/русской культуры и русскости — как на него реагировать? \n\nЮлия Ауг\, актриса и режиссер с активной гражданской позицией\, креативный директор Vaba Lava Narva (Эстония)\nИгорь Исаев\, украинский журналист и блогер в Польше\, автор Wirtualna Polska\, Gazeta Wyborcza\, Polityka\, Reset Obywatelski. Сооснователь Ассоциации «O Wolną Rosję»\nСэм Клебанов\, продюсер\, кинодистрибьютор\nМаксим Курников\, руководитель проекта «Эхо»\, ведущий редактор Bild на русском\n\nМодератор: Игорь Эйдман\, руководитель проекта «Европейский правозащитный диалог»\, политолог\, социолог \n16.30 – 16.45\nКофе-брейк \n16.45 – 18.00\nВыводы из дискуссий конференции. Что делать? Что мы хотим от властей и обществ Европы\, международных организаций? \n\nДенис Билунов\, cоциолог (Карлов университет\, Прага)\, соучредитель Пражского Российского антивоенного комитета\nАнастасия Буракова\, юрист\, основатель проекта «Ковчег»\nСергей Давидис\, руководитель Проекта «Поддержка политзаключенных. Мемориал»\nФедор Крашенинников\, политический аналитик\, публицист и общественный деятель\nАнастасия Сергеева\, председатель Ассоциации «O Wolną Rosję»\nИван Тютрин\, сооснователь Форума свободной России\, член Российского Комитета Действия\nИгорь Эйдман\, руководитель проекта «Европейский правозащитный диалог»\, политолог\, социолог\n\nМодератор: Штефан Мелле\, руководитель Austausch e.V. \nЯзыки конференции: русский и немецкий\, с синхронным переводом. \nВход свободный\, количество мест ограничено\, обязательна регистрация по ссылке. \nПроект «Европейский правозащитный диалог» проводится при финансовой поддержке МИД ФРГ в рамках программы «Расширение сотрудничества с гражданским обществом стран Восточного партнерства и России». \n#CivilSocietyCooperation #Dialog #Menschenrechte \nФото: Adobe Stock
URL:https://www.human-rights-year.com/event/konferenz-berlin/
LOCATION:Berlin
ATTACH;FMTTYPE=image/jpeg:https://www.human-rights-year.com/wp-content/uploads/2022/11/314417672_493495432815503_3822545055256835757_n.jpg
END:VEVENT
END:VCALENDAR