BEGIN:VCALENDAR
VERSION:2.0
PRODID:-//Европейский правозащитный диалог - ECPv5.16.3.1//NONSGML v1.0//EN
CALSCALE:GREGORIAN
METHOD:PUBLISH
X-WR-CALNAME:Европейский правозащитный диалог
X-ORIGINAL-URL:https://www.human-rights-year.com
X-WR-CALDESC:Мероприятия для Европейский правозащитный диалог
BEGIN:VTIMEZONE
TZID:Europe/Berlin
BEGIN:DAYLIGHT
TZOFFSETFROM:+0100
TZOFFSETTO:+0200
TZNAME:CEST
DTSTART:20210328T010000
END:DAYLIGHT
BEGIN:STANDARD
TZOFFSETFROM:+0200
TZOFFSETTO:+0100
TZNAME:CET
DTSTART:20211031T010000
END:STANDARD
END:VTIMEZONE
BEGIN:VEVENT
DTSTART;TZID=Europe/Berlin:20211210T120000
DTEND;TZID=Europe/Berlin:20211211T183000
DTSTAMP:20260422T082635
CREATED:20211117T144005Z
LAST-MODIFIED:20211209T224905Z
UID:4382-1639137600-1639247400@www.human-rights-year.com
SUMMARY:Конференция «Европейский правозащитный диалог:  как помочь гражданскому обществу в России и Беларуси»
DESCRIPTION:Конференция «Европейский правозащитный диалог:  \nкак помочь гражданскому обществу в России и Беларуси» \n10-11 декабря 2021 года\, 12.00 – 18.30 \nbUm (Paul-Linke-Ufer\, 21\, 10999\, Berlin) \nс онлайн-трансляцией: \n10.12. Ru — https://youtu.be/FP0USwGx2a8\n11.12. Ru — https://youtu.be/QxUUzmCssmk\nРегистрация на мероприятие в Берлине\n Проект «Европейский правозащитный диалог»\, правозащитный центр «Мемориал»\, Белорусский Хельсинский Комитет (БХК)\, ассоциация «За Свободную Россию» при поддержке МИД Германии приглашают принять участие в конференции «Европейский правозащитный диалог: как помочь гражданскому обществу в России и Беларуси». В этом году она пройдет в Берлине 10 — 11 декабря. В конференции примут участие известные ученые\, правозащитники\, общественные деятели из Германии\, России\, Беларуси и других стран. В центре внимания — ситуация с правами человека. Мероприятие пройдет в офлайн- и онлайн-форматах.  \nЕще Андрей Дмитриевич Сахаров писал о неразрывной связи защиты прав человека и международной безопасности. Этот принцип лег и в основу Хельсинкских соглашений. К сожалению\, сейчас проблема прав человека уходит не периферию международной повестки дня. Не случайно\, что параллельно с этим все больше угроз возникает для международной безопасности. Пока в некоторых странах происходят грубейшие нарушения прав человека\, мир не может быть безопасным. \nМы приглашаем вас принять участие в конференции «Европейский правозащитный диалог: как помочь гражданскому обществу в России и Беларуси»\, чтобы вместе с ведущими европейскими правозащитниками\, экспертами\, журналистами и гражданскими лидерами обсудить\, как вновь сделать права человека приоритетом международной политики демократических стран. \nНа конференции будут представлены рекомендации по поддержке гражданского общества России и Беларуси со стороны Евросоюза\, выработанные международной немецко-польско-российско-белорусской рабочей группой. Также будут сделаны доклады о нарушении властями России и Беларуси международных обязательств в области прав человека; пройдут круглые столы по теме поддержки российского и белорусского гражданского общества в условиях ужесточения репрессий. \nПрограмма мероприятия  \n10 декабря \n12:00 Открытие конференции \n12:15 – 13:15 Репрессии в России и Беларуси: вызовы для международных отношений и европейской безопасности \n\nМалгожата Копка-Пёнтек\, старший аналитик по политическим вопросам\, руководитель европейской программы\, Institute of Public Affairs\nЙорг Форбриг\, Директор программ Центральной и Восточной Европы The German Marshall Fund of the United States;\nВалерий Ковалевский\, дипломат\, представитель штаба Светланы Тихановской;\nВладимир Милов\, российский оппозиционный политик\, советник Алексея Навального.\n\nМодерация: Игорь Эйдман\, руководитель проекта «Европейский правозащитный диалог»\, политолог\, социолог. \n13:15 — 13:30 Кофе-брейк \n13:30 — 15:00 Нарушения прав человека\, подавление гражданского общества в 2021 году \n\nСергей Давидис\, руководитель Программы поддержки политзаключенных и член Совета ПЦ «Мемориал»;\nАнастасия Кириленко\, журналист The Insider;\nПавел Сапелка\, член совета правозащитного центра «Вясна» (Беларусь);\nМария Кравченко\, сотрудник Информационно-аналитического центра «Сова» (Москва)\, исследователь\, руководитель раздела «Неправомерный антиэкстремизм».\n\nМодерация: Роман Захаров\, журналист. \n15:00 — 16:00 Обед \n16:00 — 18:00 Потерянное наследие Хельсинкских соглашений: от real politic до миграционного кризиса 2021 \n\nЛукаш Адамский\, заместитель директора Центра Польско-Российского Диалога и Согласия;\nОлег Гулак\, правозащитник\, руководитель Белорусского Хельсинкского комитета;\nАндреас Умланд\, аналитик российской и евразийской программ Шведского института международных отношений;\nИван Павлов\, адвокат\, руководитель бывшей “Команды 29”.\n\nМодерация: Елена Бабакова\, преподаватель Vistula University\, департамент журналистики и коммуникации\, PHd. \n11 декабря \n11:00 — 12:30 Практическое измерение международной солидарности: в какой поддержке нуждается белорусское и российское гражданское общество \n\nВасилий Санкович\, Директор белорусского дома прав человека (Вильнюс)\nДенис Шедов\, юрист и аналитик правозащитного проекта ОВД-Инфо (Москва);\nЕвгения Чирикова\, эколог\, правозащитник\, организация «Активатика»;\nХанна Любакова\, независимая белорусская журналистка и исследовательница.\n\nМодерация: Штефани Шиффер\, основатель и директор организации «Европейский Обмен». \n12:30 — 12:45 Кофе-брейк \n12:45 — 14:15 Роль про-демократических диаспор Беларуси и России в диалоге с европейским сообществом \n\nАлина Ковшик\, журналистка\, сооснователь Центра Белорусской солидарности;\nДарья Дадли\, (PhD)\, сооснователь инициативы Demokrati-JA пролиберальной диаспоры\, гражданский активист\, консультант по правам мигрантов и беженцев\, юрист. Берлин/Бранденбург;\nАлександра Мамаева\, представитель народного посольства Беларуси в Словении и организации «Беларуская диаспора» в Словении;\nДмитрий Родин\, представитель российской диаспоры\, Франция.\n\nМодерация: Анастасия Сергеева\, член правления Ассоциации Za wolną Rosję. \n14:15 — 15:15 Обед \n15:15 — 17:00 На пути к Хельсинки 2.0? Как согласовать повестку безопасности и защиту прав человека? \n\nАгнешка Легуцкая\, аналитик\, Польский Институт международных отношений;\nИоанна Фомина\, Институт Социологии и Философии\, Польская Академия Наук\, соавтор доклада с рекомендациями гражданскому обществу ЕС;\nпрофессор др. Андреас Хайнеманн-Грюдер\, политолог\, социолог\, BICC (Bonn International Center for Conversion);\nРебекка Хармс\, политик (Союз 90 / Зелёные).\n\nМодерация: Алексей Козлов\, правозащитник. \n17:00 – 17:15 Кофе-брейк \n17:15 – 18:30 Презентация рекомендаций гражданскому обществу ЕС \n\nИгорь Эйдман\, руководитель проекта «Европейский правозащитный диалог»\, политолог\, социолог;\nИоанна Фомина\, Институт Социологии и Философии\, Польская Академия Наук\, соавтор доклада с рекомендациями гражданскому обществу ЕС;\nОлег Гулак\, правозащитник\, руководитель Белорусского Хельсинкского комитета;\nСергей Давидис\, руководитель Программы поддержки политзаключенных и член Совета ПЦ «Мемориал»;\nАнастасия Сергеева\, член правления Ассоциации Za wolną Rosję.\n\nЯзыки конференции: русский и немецкий\, с синхронным переводом. \nВход свободный\, количество мест ограничено\, обязательна регистрация по ссылке.  \nДля участия в конференции онлайн (в Zoom) или для просмотра Livestream просим также заполнить регистрационную форму.  \nКонференция проводится в строгом соответствии с концепцией гигиены\, в формате 2G\, участвовать могут только привитые и переболевшие. Участникам нужно соблюдать расстояние в 1\,5 м и находиться в масках. Пожалуйста\, не забывайте использовать дезинфицирующие средства. Каждые 35 минут помещение будет проветриваться. \nПроект «Европейский правозащитный диалог» проводится при финансовой поддержке МИД ФРГ в рамках программы «Расширение сотрудничества с гражданским обществом стран Восточного партнерства и России». \n#CivilSocietyCooperation #Dialog #Menschenrechte \nФото: Adobe Stock \nОб экспертах конференции\n10 декабря\, 12:15 – 13:15 \nРепрессии в России и Беларуси: вызовы для международных отношений и европейской безопасности \nМалгожата Копка-Пёнтек \nСотрудница отдела политической аналитики\, руководительница европейской программы\, Institute of Public Affairs. Соучредительница и председательница правления FemGlobal — Ассоциации женщин в международной политике. В течение 15 лет занималась европейской и международной политикой в варшавском офисе Фонда Генриха Бёлля. До этого работала в Польско-немецком молодежном сотрудничестве и проводила тренинги по межкультурному гражданскому образованию\, ненасильственному разрешению конфликтов и международной волонтерской службе. Последняя публикация Малгожаты: «Спасут ли женщины мир? Феминистская внешняя политика» (Czy kobiety uratują świat? Feministyczna polityka zagraniczna). \nЙорг Форбриг \nСтарший научный сотрудник и директор по региону Центральной и Восточной Европы The German Marshall Fund of the United States. В центре его исследовательских интересов регион Центрально-Восточной Европы\, включая восточные страны-члены Европейского Союза и НАТО\, Восточного партнерства ЕС и Россию. Кроме того\, он координирует работу по оказанию помощи гражданскому обществу в Беларуси и Центральной Европе\, тесно сотрудничает с Balkan Trust for Democracy и Black Sea Trust for Regional Cooperation. Йорг является доктором социальных и политических наук Института Европейского университета во Флоренции и имеет степень магистра политических наук Центрально-Европейского университета в Будапеште. \nВалерий Ковалевский \nПредставитель штаба Светланы Тихановской по международным делам и глава ее кабинета. Он формулирует приоритеты внешней политики\, реализует достигнутые договоренности и разрабатывает новые международные обязательства для реализации демократических изменений в Беларуси. Профессиональный опыт Валерия включает национальную дипломатическую службу со специализацией по двусторонним отношениям с США и вопросам прав человека в многосторонней дипломатии. В 2016-2020 Валерий работал в Группе Всемирного банка в Вашингтоне. Окончил Kozminsky Academy (EMBA) и Georgetown University School of Foreign Service.  \nВладимир Милов \nРоссийский оппозиционный политический деятель\, ближайший политический соратник и советник Алексея Навального. Владимир — бывший заместитель министра энергетики РФ\, один из лидеров Демократического Движения «Солидарность»\, бывший председатель Партии демократического выбора (European People’s Party affiliate). Автор аналитических отчетов о российской энергетике\, политическом и социально-экономическом положении России. В настоящее время Владимир представляет движение Навального и российскую оппозицию за рубежом. \nМодератор: Игорь Эйдман \nРуководитель проекта «Европейский правозащитный диалог»\, политолог\, социолог. Автор книг «Прорыв в будущее. Социология Интернет-революции»\, «Новая национальная идея Путина»\,  «Система Путина: куда движется новая Российская империя?»\, статей в журнале Fokus\, Neue Züricher Zeitung\, Süddeutsche Zeitung\, Frankfurter Allgemeine Zeitung\, Deutsche Welle. \n10 декабря\, 13:30 – 15:00 \nНарушения прав человека: подавление гражданского общества в 2021 году \nСергей Давидис \nПравозащитник\, публицист и общественный деятель. По образованию – юрист и социолог. Член Совета и руководитель Программы поддержки политзаключенных в ПЦ «Мемориал». Был одним из создателей и руководителей Демократического Движения «Солидарность» и Партии 5 декабря. Неоднократно выступал в качестве организатора протестных акций и акций солидарности с политзаключенными в Москве. Был кандидатом на выборах в Московскую городскую и Государственную Думу. \nАнастасия Кириленко \nРоссийская независимая журналистка-расследовательница. В 2009-2014 репортер Московского бюро «Радио Свобода»\, авторка журналистских расследований о коррупции в России. С 2015 сотрудничает с изданием Insider. Соавторка с Николя Тоневым документального телефильма «Путин и мафия» (французско-швейцарское производство\, 2018). В 2018 номинантка премии Сахарова «Журналистика как поступок». Уже 6 лет член экспертной группы «Борьба с трансграничной коррупцией» под эгидой Гражданского форума Россия-ЕС. \nПавел Сапелко \nЮрист Правозащитного центра «Весна» (Беларусь). Автор докладов и исследований о состоянии мест несвободы в Беларуси\, соблюдении стандартов справедливого правосудия и права не подвергаться пыткам и другим запрещенным видам обращения. В прошлом — адвокат\, защитник по делам политиков и активистов из Беларуси. Награжден премией «За защиту прав человека» Совета адвокатских объединений и юридических обществ Европы. \nМария Кравченко \nИсследовательница\, руководительница отдела «Неправомерный антиэкстремизм» в Информационно-аналитическом центре «Сова» (Москва). Центр «Сова» основан в 2002\, ведет мониторинг и публикует новости и аналитические материалы о русском национализме и ксенофобии в России\, отношениях между государством и религиозными организациями\, а также проблемах законодательства и правоприменения в сфере борьбы с экстремизмом. В 2016 Центр был принудительно внесен Минюстом в перечень «некоммерческих организаций\, выполняющих функции иностранного агента». «Сова» не согласна с этим решением и обжалует его. \nМодератор: Роман Захаров \nЖурналист\, один из учредителей и шеф-редактор «Агентства правовой информации». С 2003 сотрудник Фонда защиты гласности\, старейшей российской НКО в сфере защиты свободы прессы и свободы слова. Занимается научным и прикладным исследованием журналистской самоцензуры\, с 2020 года на базе Лодзинского университета (Польша). В 2015 выиграл дело в Большой Палате Европейского суда по правам человека по незаконности применения системы СОРМ российскими спецслужбами для прослушки телефонных переговоров и перехвата электронной коммуникации.  \n10 декабря\, 16:00 – 18:00 \nПотерянное наследие Хельсинкских соглашений: от real politic до миграционного кризиса 2021 \nЛукаш Адамский \nPhD в исторических науках\, эксперт по внешней политике\, публицист. C 2016 заместитель директора Центра польско-российского диалога и согласия — польского государственного учреждения\, созданного в 2010 при Министерстве культуры. В 2014 был докладчиком Специальной мониторинговой миссии ОБСЕ в Украине. В 2018 объявлен ФСБ РФ лицом\, не имеющим права посещать Российскую Федерацию. \nОлег Гулак \nПравозащитник\, руководитель Белорусского Хельсинкского комитета. Лауреат франко-немецкой премии «За права человека и верховенство закона». \nАндреас Умланд \nАналитик Стокгольмского центра восточноевропейских исследований Шведского института международных отношений и доцент кафедры политологии Киево-Могилянской академии. Является редактором двух серий книг о советской и постсоветской политике\, а также по украинским делам\, издаваемых ibidem Press в Штутгарте. Ранее стажировался в Стэнфордском университете\, Гарвардском университете\, Оксфордском колледже Святого Антония\, Киевском университете им. Шевченко\, Католическом университете Эйхштетта и Институте международных отношений в Праге. \nИван Павлов \nАдвокат\, специализирующийся на делах\, связанных с госбезопасностью и доступом к информации. С 1996 защищает людей\, обвинённых ФСБ в государственной измене\, шпионаже и экстремизме. Среди резонансных дел\, в которых выступал защитником: признание ФБК экстремистской организацией\, обвинение в государственной измене журналиста Ивана Сафронова\, дело «Фабрики троллей»\, дело Светланы Давыдовой\, «сочинские дела». Автор юридических и законодательных инициатив\, защищающих право на доступ к информации от государственных органов\, в том числе доступ к засекреченным советским архивам. Учредитель Фонда свободы информации\, который в 2014 был внесен в реестр НКО-иноагентов. Руководитель неформального объединения юристов и журналистов «Команда 29»\, прекратившего существование из-за обвинений в связях с нежелательной организацией. \nМодератор: Елена Бабакова \nPhD в исторических науках\, преподавательница факультета журналистики и коммуникации Vistula University. Специализируется на темах трудовой миграции\, польско-украинских отношений\, прав человека\, новых медиа; как журналистка публикуется в польских и украинских изданиях\, в т.ч. Krytyka Polityczna\, WP\, Європейська Правда\, Громадське. Стипендиатка Rethink.CEE German Marshall Fund 2020/2021. Программный директор WOT Foundation. \n11 декабря\, 11:00 – 12:30 \nПрактическое измерение международной солидарности: в какой поддержке нуждается беларуское и российское гражданское общество \nДенис Шедов \nЮрист и аналитик правозащитного медиа-проекта ОВД-Инфо\, а также член Правозащитного центра «Мемориал». В своей практической и исследовательской работе сфокусирован на свободе собраний и выражения мнения\, на разных аспектах политически мотивированных преследований в России. Денис защищает задержанных на мирных собраниях\, обжалует запреты на проведение публичных мероприятий и незаконные действия полиции в России. Денис также ведет несколько дел о свободе собраний\, свободе выражения и вероисповедания в Европейском суде по правам человека. \nЕвгения Чирикова \nАктивистка-эколог. В начале 2010-х выступала против уничтожения Химкинского леса ради строительства автомагистрали Москва-СПб. Евгения сыграла заметную роль в российском протесте 2011-2012 после фальсификации парламентских выборов. В марте 2011 получила премию Правительства США «Отважная женщина». В 2012 лауреат экологической премии Goldman. В ноябре 2012 издание Foreign Policy назвало Чирикову одним из 100 глобальных мыслителей года. В 2015 вместе с российскими активистами и журналистами создала портал activatica.org\, посвященный низовым общественным инициативам в РФ. В настоящее время оказывает поддержку в самоорганизации гражданских движений России. \nХанна Любакова \nЖурналистка из Беларуси\, сотрудница Atlantic Council. Свою карьеру начала на единственном независимом беларуском телеканале «Белсат»\, где работала корреспондентом и телеведущей. Ханна вела репортажи в Бельгии\, Великобритании\, Польши\, Франции и Чечни. Стипендиатка Vaclav Havel fellowship на Радио Свободная Европа / Радио Свобода в Чехии\, Института мировой прессы в США. Ханна получила степень магистра искусств с отличием в области международной журналистики в Университете Брунеля в Лондоне в 2017. Она была удостоена премии Питера Коуза за лучшую аспирантскую диссертацию. \nМодератор: Стефани Шиффер  \nОсновательница и директорка ООО «Европейский обмен» (European Exchange gGmbH) в Берлине. В 1992-2006 директор «Немецко-российского обмена» (Deutsch-Russischer Austausch e.V.) в Санкт-Петербурге и Берлине. Является одним из основателей Форума гражданского общества Россия-ЕС\, Европейской платформы демократических выборов (EPDE) и Киевского диалога. Была членом жюри премии «Свободная пресса Восточной Европы» фонда ZEIT. В настоящее время является советником Фонда Марион-Дёнхофф и членом правления организации «Права человека в Беларуси». \n11 декабря\, 12:45 – 14:15 \nРоль про-демократических диаспор Беларуси и России в диалоге с европейским сообществом \nАлина Ковшик \nБеларуская независимая журналистка\, стоявшая у истоков телеканала «Белсат». Специализируется в тематике международных отношений. Соучредительница Центра беларуской солидарности в Варшаве\, который оказывает помощь беларуским эмигрантам и занимается поддержкой пострадавших от репрессий Лукашенки. Является автором проектов по продвижению Беларуси\, объединению беларусов и расширению прав и возможностей женщин. \nДарья Дадли \nPhD\, соосновательница инициативы Demokrati-JA пролиберальной диаспоры в Германии\, гражданская активистка\, консультантка по правам мигрантов и беженцев\, юристка (Берлин/Бранденбург). С января 2017 работает консультантом по правам беженцев. В 2020 защитила диссертацию по миграционному праву ФРГ на юрфаке Свободного университета Берлина. Организатор протестных акций в Берлине.  \nДмитрий Родин \nПредприниматель. С 2019 живет в Париже. Член Правления Russie-Libertés (Франция) — общественной организации\, занимающейся вопросами защиты прав человека и помощи российским беженцам и эмигрантам. \nАлександра Мамаева  \nОбщественный и политический деятель из Беларуси. В 1998-2004 консультант избирательных кампаний в Беларуси\, России и Украине\, в т.ч. президентских выборов в Беларуси в 2001\, местных выборов в Бресте и Минске. С 2015 проживает в Словении\, где открыла яхтенное агентство. После протестов летом 2020 участвует в акциях солидарности в Словении\, Италии и Австрии\, координирует проекты беларуской диаспоры. Секретарь сообщества «Беларусы зарубежья»\, представитель Народного посольства Беларуси в Словении и член объединения «Беларуская диаспора в Словении». \nМодератор: Анастасия Сергеева \nАктивистка российского гражданского общества и политолог. Член правления Ассоциации «Za Wolną Rosję» (За свободную Россию)\, Польша\, председатель правления WOT Foundation. Анастасия работает в российском гражданском секторе уже более 15 лет\, последние год занимается развитием сети диаспоры\, тесно связанной с гражданским обществом внутри России. Является членом группы по адвокации гражданского форума ЕС-Россия и соавтором аналитических и политических на тему социально-политических процессов в РФ. \n11 декабря\, 15:15 – 17:00  \nНа пути к Хельсинки 2.0? Как согласовать повестку безопасности и защиту прав человека \nАгнешка Легуцкая \nАналитик программы «Россия в Восточной Европе» Польского института международных дел (PISM). Сфера ее экспертизы включает внешнюю и внутреннюю политику России\, вопросы безопасности и конфликты в странах Восточного партнерства ЕС\, отношения Россия-ЕС и Россия-НАТО\, российскую дезинформацию и гибридные угрозы. Доктор политических наук. Доцент факультета финансов и международных отношений Vistula University в Варшаве. Она также является заместителем главного редактора журнала «Международные дела» (Sprawy Międzynarodowe). Автор книги «Геополитические факторы и последствия вооруженных конфликтов на постсоветском пространстве». \nИоанна Фомина \nДоцент Института философии и социологии Польской академии наук в Варшаве. Ее научные интересы включают интеграцию ЕС\, миграционную политику и интеграции мигрантов\, евроскептицизм и популизм\, а также демократизацию в Центральной и Восточной Европе. Автор Political Dissent and Democratic Remittances: The Activities of Russian Migrants in Europe (London: Routledge\, 2021). Она также имеет обширный опыт работы с межправительственными и неправительственными организациями\, включая Бюро ОБСЕ по демократическим институтам и правам человека\, Фонд Батория\, Polish Institute of Fireign Affairs и Amnesty International.  \nАндреас Хайнеманн-Грюдер \nПолитолог\, социолог\, профессор\, сотрудник Bonn International Center for Conversion. В 1989 получил докторскую степень в Свободном университете Берлина. Преподавал в Берлинском университете Гумбольдта\, Пенсильванском университете. Его исследования посвящены постсоветской политике\, трансформации и урегулированию гражданских конфликтов\, стабильности и нестабильности недемократических режимов. Эксперт по политическим процессам в Украине\, Кыргызстане\, Россие и Узбекистане. \nРебекка Хармс \nБывший депутат Европарламента\, эксперт по немецкой внешней политике. В 1994 впервые была избрана депутатом — в ландтаг федеральной земли Нижняя Саксония. В 1997 стала одним из инициаторов гражданского движения против захоронения в Горлебене атомных отходов\, последовательно выступает за переход на возобновляемые источники энергии. В 2004-2019 была членом фракции Союза 90/Партия Зеленых в Европарламенте. Также входила в Комитет по вопросам парламентского сотрудничества Украина-ЕС. В 2004 году неоднократно приезжала в столицу Украины во время Оранжевой революции. В декабре 2013 года посетила Киев и поддержала Евромайдан. \nМодератор: Алексей Козлов \nPhD\, социолог\, стипендиат пост-докторской программы Йенского университета\, политэмигрант. Руководитель организации Solidarus\, координатор проекта Freies Russland Berlin\, редактор правозащитного портала article20.org.
URL:https://www.human-rights-year.com/event/konferenciya/
LOCATION:Berlin
ATTACH;FMTTYPE=image/jpeg:https://www.human-rights-year.com/wp-content/uploads/2021/11/AdobeStock_468845094.jpeg
END:VEVENT
END:VCALENDAR