BEGIN:VCALENDAR
VERSION:2.0
PRODID:-//Европейский правозащитный диалог - ECPv5.16.3.1//NONSGML v1.0//EN
CALSCALE:GREGORIAN
METHOD:PUBLISH
X-WR-CALNAME:Европейский правозащитный диалог
X-ORIGINAL-URL:https://www.human-rights-year.com
X-WR-CALDESC:Мероприятия для Европейский правозащитный диалог
BEGIN:VTIMEZONE
TZID:Europe/Berlin
BEGIN:DAYLIGHT
TZOFFSETFROM:+0100
TZOFFSETTO:+0200
TZNAME:CEST
DTSTART:20190331T010000
END:DAYLIGHT
BEGIN:STANDARD
TZOFFSETFROM:+0200
TZOFFSETTO:+0100
TZNAME:CET
DTSTART:20191027T010000
END:STANDARD
END:VTIMEZONE
BEGIN:VEVENT
DTSTART;TZID=Europe/Berlin:20191104T174500
DTEND;TZID=Europe/Berlin:20191104T213000
DTSTAMP:20260422T145516
CREATED:20191003T092322Z
LAST-MODIFIED:20191102T162356Z
UID:1544-1572889500-1572903000@www.human-rights-year.com
SUMMARY:Внимание! Исправлена ошибка. Кёльн / Студенческое мероприятие
DESCRIPTION:Когда: 17.45 – 21.30\nГде: Universität zu Köln\, Raum H 230 \nLuxemburger Strasse 90\, \n50939 Köln \n  \nПрава человека и пропаганда: экспертиза из России\nВстреча с правозащитниками\, журналистами и деятелями культуры из России \nИсторик и журналист Николай Руденский проводит подробный «химический» анализ российской телевизионной пропаганды.\nПравозащитник Дмитрий Пискунов расскажет о борьбе против пыток и произвола на Северном Кавказе.\nСоциолог Сергей Давидис объясняет\, как быстро в России можно попасть в заключение по политическим мотивам.\nПоэт Лев Рубинштейн помогает понять\, как современная русская культура стремится установить религиозно-патриотическую связь.\nБывший политзаключенный Алексей Полихович рассказывает свою личную историю сопротивления.\nПолитик Юлия Галямина рассказывает о том\, как вместо Мосгордумы оказалась в полицейской камере. \nВнимание! Исправлена ошибка в описании мероприятия! Мероприятие состоится с переводом на немецкий язык в университете Кёльна. \n  \nВход бесплатный \n  \n  \nМероприятие на Facebook\n  \nIllustration (CC) garzhia
URL:https://www.human-rights-year.com/event/kjoln-lekciya-na-russkom-yazyke-bez-perevoda/
LOCATION:Universität zu Köln\, Raum H 230
ATTACH;FMTTYPE=image/jpeg:https://www.human-rights-year.com/wp-content/uploads/2019/10/6053165628_3a8b092120_k.jpg
END:VEVENT
END:VCALENDAR