BEGIN:VCALENDAR
VERSION:2.0
PRODID:-//Европейский правозащитный диалог - ECPv5.16.3.1//NONSGML v1.0//EN
CALSCALE:GREGORIAN
METHOD:PUBLISH
X-WR-CALNAME:Европейский правозащитный диалог
X-ORIGINAL-URL:https://www.human-rights-year.com
X-WR-CALDESC:Мероприятия для Европейский правозащитный диалог
BEGIN:VTIMEZONE
TZID:Europe/Berlin
BEGIN:DAYLIGHT
TZOFFSETFROM:+0100
TZOFFSETTO:+0200
TZNAME:CEST
DTSTART:20230326T010000
END:DAYLIGHT
BEGIN:STANDARD
TZOFFSETFROM:+0200
TZOFFSETTO:+0100
TZNAME:CET
DTSTART:20231029T010000
END:STANDARD
END:VTIMEZONE
BEGIN:VEVENT
DTSTART;TZID=Europe/Berlin:20231020T170000
DTEND;TZID=Europe/Berlin:20231020T200000
DTSTAMP:20260422T015741
CREATED:20231015T231408Z
LAST-MODIFIED:20231015T231917Z
UID:4987-1697821200-1697832000@www.human-rights-year.com
SUMMARY:Инструменты влияния: пропаганда\, дезинформация и фейк-новости
DESCRIPTION:Проект «Европейский правозащитный диалог»\, реализуемый при поддержке МИД Германии\, объявляет о проведении в 2023 году серии образовательных онлайн семинаров на тему “Инструменты влияния: пропаганда\, дезинформация и фейк новости”. Семинары ориентированы\, в первую очередь\, на русскоязычную аудиторию\, находящуюся в эмиграции. \nСеминар 1. “Инструменты влияния: пропаганда\, дезинформация и фейк-новости” 20 октября 2023 в 17:00 (по Берлинскому времени). \nЭксперты: Игорь Эйдман и Лилия Саблина \nСеминар «Инструменты влияния: пропаганда\, дезинформация и фейк новости» представляет собой теоретическое исследование того\, как Кремль использует информацию для формирования и поддержания внешнеполитического влияния. Семинар разделен на две ключевые части\, которые открывают участникам глубокое понимание истории и методов российской пропаганды\, а также помогают распознать различия между пропагандой\, дезинформацией и фейк-новостями\, особенно в сфере социальных сетей. \nЧасть 1: «История и методы российской пропаганды»\nЛектор: Игорь Эйдман\n— Исторический обзор российской пропаганды: от советских времен до современности.\n— Механизмы и методы\, которые Кремль использует для формирования своего информационного воздействия.\n— Воздействие российской пропаганды на общественное мнение и политические процессы в Германии и Европе. \nЧасть 2: «Ликбез: пропаганда\, дезинформация и фейк-новости в эпоху социальных сетей»\nЛектор: Лилия Саблина\n— Роль российских медиа и социальных сетей в распространении пропагандистских сообщений.\n— Определение и различие между пропагандой\, дезинформацией и фейк-новостями.\n— Техники и стратегии\, используемые при создании и распространении дезинформации.\n— Инструменты и методы для выявления и анализа пропаганды и дезинформации в сети.\n— Практические навыки и инструменты для проверки достоверности информации в средах социальных сетей. \nДанный семинар предоставляет участникам возможность получить знания о российской пропаганде\, ее истории и методах\, а также развить практические навыки в области анализа информации в сфере социальных сетей. Участники смогут лучше понимать вызовы\, связанные с информационной безопасностью\, и разрабатывать стратегии для защиты общества от воздействия пропаганды и дезинформации. \nОб экспертах: \nИгорь Эйдман — руководитель проекта «Европейский правозащитный диалог»\, политолог\, социолог. Автор книг «Прорыв в будущее. Социология Интернет-революции»\, «Новая национальная идея Путина»\, «Система Путина: куда движется новая Российская империя?»\, статей в журнале Fokus\, Neue Züricher Zeitung\, Süddeutsche Zeitung\, Frankfurter Allgemeine Zeitung\, Deutsche Welle. \nЛилия Саблина – аспирантка Центрально-Европейского университета в Вене. Ее диссертация посвящена изучению право-радикальной мобилизации русскоязычного населения в Германии и российской дезинформации в стране. Лилия является автором нескольких научных работ на эту тему\, опубликованных в ведущих англоязычных политологических журналах. \nДля участия в семинаре заполните\, пожалуйста\, форму регистрации: https://forms.gle/2KfXKbDKapsQbExz7 \nЕсли у вас остались какие-либо вопросы\, пожалуйста пишите координатору проекта Ирине в телеграме: @irina_drmd\, или по электронной почте: fakenews@menschenrechtsdialog.de \nПроект «Европейский правозащитный диалог» реализуется при поддержке МИД ФРГ в рамках программы «Расширение сотрудничества с гражданским обществом стран Восточного партнерства и России».
URL:https://www.human-rights-year.com/event/instrumenty-vliyaniya-propaganda-dezinformacziya-i-fejk-novosti/
ATTACH;FMTTYPE=image/jpeg:https://www.human-rights-year.com/wp-content/uploads/2023/10/oblozhka-seminar-2-scaled.jpg
END:VEVENT
END:VCALENDAR