BEGIN:VCALENDAR
VERSION:2.0
PRODID:-//Европейский правозащитный диалог - ECPv5.16.3.1//NONSGML v1.0//EN
CALSCALE:GREGORIAN
METHOD:PUBLISH
X-WR-CALNAME:Европейский правозащитный диалог
X-ORIGINAL-URL:https://www.human-rights-year.com
X-WR-CALDESC:Мероприятия для Европейский правозащитный диалог
BEGIN:VTIMEZONE
TZID:Europe/Berlin
BEGIN:DAYLIGHT
TZOFFSETFROM:+0100
TZOFFSETTO:+0200
TZNAME:CEST
DTSTART:20230326T010000
END:DAYLIGHT
BEGIN:STANDARD
TZOFFSETFROM:+0200
TZOFFSETTO:+0100
TZNAME:CET
DTSTART:20231029T010000
END:STANDARD
END:VTIMEZONE
BEGIN:VEVENT
DTSTART;VALUE=DATE:20231011
DTEND;VALUE=DATE:20231012
DTSTAMP:20260422T031018
CREATED:20230918T225638Z
LAST-MODIFIED:20231003T220653Z
UID:4923-1696982400-1697068799@www.human-rights-year.com
SUMMARY:Инструменты российского влияния: пропаганда\, дезинформация и fake news
DESCRIPTION:Эксперты: Игорь Эйдман и Лилия Саблина \nСеминар «Инструменты российского влияния: пропаганда\, дезинформация и фейк новости» представляет собой более теоретическое исследование того\, как Кремль использует информацию для формирования и поддержания внешнеполитического влияния. Семинар разделен на две ключевые части\, которые предоставляют участникам глубокое понимание истории и методов российской пропаганды\, а также помогают различать между пропагандой\, дезинформацией и фейк-новостями\, особенно в сфере социальных сетей. \nЧасть 1: «История и Операционализация Российской Пропаганды» \nЛектор: Игорь Эйдман \n\nИсторический обзор российской пропаганды: от советских времен до современности.\nМеханизмы и методы\, которые Кремль использует для формирования своего информационного воздействия.\nВоздействие российской пропаганды на общественное мнение и политические процессы в Германии и Европе.\n\nЧасть 2: «Ликбез: Пропаганда\, Дезинформация и Фейк-Новости в Эпоху Социальных Сетей» \nЛектор: Лилия Саблина  \n\nРоль российских медиа и социальных сетей в распространении пропагандистских сообщений.\nОпределение и различие между пропагандой\, дезинформацией и фейк-новостями.\nТехники и стратегии\, используемые при создании и распространении дезинформации.\nИнструменты и методы для выявления и анализа пропаганды и дезинформации в сети.\nПрактические навыки и инструменты для проверки достоверности информации в средах социальных сетей.\n\nДанный семинар предоставляет участникам возможность получить глубокие знания о российской пропаганде\, ее истории и методах\, а также развить практические навыки в области анализа информации в сфере социальных сетей. Участники смогут лучше понимать вызовы\, связанные с информационной безопасностью\, и разрабатывать стратегии для защиты общества от воздействия пропаганды и дезинформации.
URL:https://www.human-rights-year.com/event/instrumenty-rossijskogo-vliyaniya-propaganda-dezinformacziya-i-fake-news/
CATEGORIES:Мероприятия
END:VEVENT
END:VCALENDAR