BEGIN:VCALENDAR
VERSION:2.0
PRODID:-//Европейский правозащитный диалог - ECPv5.16.3.1//NONSGML v1.0//EN
CALSCALE:GREGORIAN
METHOD:PUBLISH
X-WR-CALNAME:Европейский правозащитный диалог
X-ORIGINAL-URL:https://www.human-rights-year.com
X-WR-CALDESC:Мероприятия для Европейский правозащитный диалог
BEGIN:VTIMEZONE
TZID:Europe/Berlin
BEGIN:DAYLIGHT
TZOFFSETFROM:+0100
TZOFFSETTO:+0200
TZNAME:CEST
DTSTART:20200329T010000
END:DAYLIGHT
BEGIN:STANDARD
TZOFFSETFROM:+0200
TZOFFSETTO:+0100
TZNAME:CET
DTSTART:20201025T010000
END:STANDARD
END:VTIMEZONE
BEGIN:VEVENT
DTSTART;VALUE=DATE:20201211
DTEND;VALUE=DATE:20201212
DTSTAMP:20260422T081942
CREATED:20201027T181422Z
LAST-MODIFIED:20201202T130845Z
UID:3463-1607644800-1607731199@www.human-rights-year.com
SUMMARY:Онлайн-презентация российских правозащитных организаций
DESCRIPTION:Форум русскоязычных европейцев при поддержке ПЦ «Мемориал» и при содействии МИД Германии проводит 11 декабря онлайн-презентацию российских правозащитных организаций.\n\nМероприятие планируется в виде серии отдельных презентаций российских правозащитных НКО\, состоящих из двух частей: рассказа представителя организации о ее работе и ответов на вопросы аудитории.\n\nВ онлайн-презентации примут участие:\n\nПравозащитный центр «Мемориал»\nМосковская Хельсинкская группа\n«Общественный вердикт»\nКомитет против пыток\n«Гражданское содействие»\n«Агора»\n«Русь Сидящая»\nСахаровский Центр\nОВД-Инфо\nФонд содействия защите здоровья и социальной справедливости имени Андрея Рылькова\nРоссийская ЛГБТ-сеть\nНасилию.нет\nМежрегиональный народный протест против ввоза московского мусора на станцию Шиес\n\n\nМероприятие пройдет в формате онлайн-конференции на платформе Zoom на русском языке с синхронным переводом на немецкий. Для участия просим зарегистрироваться по E-mail: eurorussianforum@gmail.com\n\nПроект «Немецко-российский правозащитный диалог» финансируется из средств МИД ФРГ в рамках программы «Расширение сотрудничества с гражданским обществом стран Восточного партнерства и России».
URL:https://www.human-rights-year.com/event/informacionnyj-tur-v-moskvu-dlya-zhurnalistov-iz-germanii/
CATEGORIES:Мероприятия
ATTACH;FMTTYPE=image/jpeg:https://www.human-rights-year.com/wp-content/uploads/2020/10/AdobeStock_101713498.jpeg
ORGANIZER;CN="Forum%20russischsprachiger%20Europ%C3%A4er%20e.V.%20%E2%80%A2%20FRE%20e.V.":MAILTO:eurorussianforum@gmail.com
END:VEVENT
END:VCALENDAR