BEGIN:VCALENDAR
VERSION:2.0
PRODID:-//Европейский правозащитный диалог - ECPv5.16.3.1//NONSGML v1.0//EN
CALSCALE:GREGORIAN
METHOD:PUBLISH
X-WR-CALNAME:Европейский правозащитный диалог
X-ORIGINAL-URL:https://www.human-rights-year.com
X-WR-CALDESC:Мероприятия для Европейский правозащитный диалог
BEGIN:VTIMEZONE
TZID:Europe/Berlin
BEGIN:DAYLIGHT
TZOFFSETFROM:+0100
TZOFFSETTO:+0200
TZNAME:CEST
DTSTART:20190331T010000
END:DAYLIGHT
BEGIN:STANDARD
TZOFFSETFROM:+0200
TZOFFSETTO:+0100
TZNAME:CET
DTSTART:20191027T010000
END:STANDARD
END:VTIMEZONE
BEGIN:VEVENT
DTSTART;TZID=Europe/Berlin:20191123T120000
DTEND;TZID=Europe/Berlin:20191123T140000
DTSTAMP:20260422T105738
CREATED:20191118T133216Z
LAST-MODIFIED:20191118T141305Z
UID:2737-1574510400-1574517600@www.human-rights-year.com
SUMMARY:23.11.2019 Нижний Новгород / Реальность против спекуляций: права человека в Германии
DESCRIPTION:КОГДА: 23.11.2019\, 12:00-14:00 \nГДЕ: Центральная городская библиотека\, читальный зал\,\nНижний Новгород\, ул. Советская\, 16 \nТак ли страшна ювенальная юстиция\, дискриминируют ли русскоязычных\, опасны ли беженцы\, бьют ли демонстрантов? \nОб этом всем вы сможете узнать\, посетив встречу с немецкими правозащитниками и общественными деятелями\, которая пройдет в рамках проекта «Немецко-российский год прав человека». \n Начальник отдела берлинского министерства образования Анке Гисен расскажет о том\, как защищаются права детей и подростков\, как работает ювенальная юстиция. \n Сотрудник сената Берлина Олаф Кюль — о том\, как соблюдаются политические права горожан\, в том числе на проведение различных акций\, участие в управлении городом т.д. \n Правозащитник Алексей Борис — о том\, как решается «проблема беженцев»\, защищены их права\, как ведет себя государство по отношению к ним и их противникам. \n Актер и режиссер Григорий Кофман — о том\, как защищаются права русскоязычных\, в том числе на собственную культурную идентичность; как живет русская культура в Германии. \nУчастники немецкой делегации ответят на вопросы собравшихся. \nОрганизаторы: «Форум русскоязычных европейцев» и ПЦ «Мемориал»\, при поддержке МИДа Германии. \nВход свободный! \n  \nМероприятие на Facebook
URL:https://www.human-rights-year.com/event/23-11-2019-nizhnij-novgorod-realnost-protiv-spekulyacij-prava-cheloveka-v-germanii/
LOCATION:Центральная городская библиотека\, ул. Советская\, 16\, Нижний Новгород\, Российская Федерация
CATEGORIES:Мероприятия
ATTACH;FMTTYPE=image/jpeg:https://www.human-rights-year.com/wp-content/uploads/2019/11/bib.jpg
ORGANIZER;CN="Forum%20russischsprachiger%20Europ%C3%A4er%20e.V.%20%E2%80%A2%20FRE%20e.V.":MAILTO:eurorussianforum@gmail.com
END:VEVENT
END:VCALENDAR