BEGIN:VCALENDAR
VERSION:2.0
PRODID:-//Европейский правозащитный диалог - ECPv5.16.3.1//NONSGML v1.0//EN
CALSCALE:GREGORIAN
METHOD:PUBLISH
X-WR-CALNAME:Европейский правозащитный диалог
X-ORIGINAL-URL:https://www.human-rights-year.com
X-WR-CALDESC:Мероприятия для Европейский правозащитный диалог
BEGIN:VTIMEZONE
TZID:Europe/Berlin
BEGIN:DAYLIGHT
TZOFFSETFROM:+0100
TZOFFSETTO:+0200
TZNAME:CEST
DTSTART:20190331T010000
END:DAYLIGHT
BEGIN:STANDARD
TZOFFSETFROM:+0200
TZOFFSETTO:+0100
TZNAME:CET
DTSTART:20191027T010000
END:STANDARD
END:VTIMEZONE
BEGIN:VEVENT
DTSTART;TZID=Europe/Berlin:20191121T134000
DTEND;TZID=Europe/Berlin:20191121T164000
DTSTAMP:20260422T130651
CREATED:20191117T125158Z
LAST-MODIFIED:20191118T131706Z
UID:2726-1574343600-1574354400@www.human-rights-year.com
SUMMARY:21.11.19 СПб НИУ ВШЭ /  Реальность против спекуляций: права человека в Германии
DESCRIPTION:КОГДА: 21.11.2019\, 13:40-16:40\nГДЕ: СПб Наб. Канала Грибоедова 123 \nФакультет политологии НИУ ВШЭ в г. Санкт-Петербург \n  \nТак ли страшна ювенальная юстиция\, дискриминируют ли русскоязычных\, опасны ли беженцы\, бьют ли демонстрантов? \nОб этом всем вы сможете узнать\, посетив встречу с немецкими правозащитниками и общественными деятелями\, которая пройдет в рамках проекта «Немецко-российский год прав человека». \n➡️ Начальник отдела берлинского министерства образования Анке Гисен расскажет о том\, как защищаются права детей и подростков\, как работает ювенальная юстиция. \n➡️ Сотрудник сената Берлина Олаф Кюль — о том\, как соблюдаются политические права горожан\, в том числе на проведение различных акций\, участие в управлении городом т.д. \n➡️ Правозащитник Алексей Борис — о том\, как решается «проблема беженцев»\, защищены их права\, как ведет себя государство по отношению к ним и их противникам. \n➡️ Актер и режиссер Григорий Кофман — о том\, как защищаются права русскоязычных\, в том числе на собственную культурную идентичность; как живет русская культура в Германии. \nУчастники немецкой делегации ответят на вопросы собравшихся. \nОрганизаторы: «Форум русскоязычных европейцев» и ПЦ «Мемориал»\, при поддержке МИДа Германии. \nВход свободный! \n  \nИллюстрация
URL:https://www.human-rights-year.com/event/21-11-19-spb-realnost-protiv-spekulyacij-prava-cheloveka-v-germanii/
LOCATION:Факультет политологии НИУ ВШЭ в г. Санкт-Петербург\, Наб. Канала Грибоедова 123\, Санкт-Петербург\, Российская Федерация
CATEGORIES:Мероприятия
ATTACH;FMTTYPE=image/jpeg:https://www.human-rights-year.com/wp-content/uploads/2019/11/kanal-1.jpg
ORGANIZER;CN="Forum%20russischsprachiger%20Europ%C3%A4er%20e.V.%20%E2%80%A2%20FRE%20e.V.":MAILTO:eurorussianforum@gmail.com
END:VEVENT
END:VCALENDAR