BEGIN:VCALENDAR
VERSION:2.0
PRODID:-//Europäischer Menschenrechtsdialog - ECPv5.16.3.1//NONSGML v1.0//EN
CALSCALE:GREGORIAN
METHOD:PUBLISH
X-WR-CALNAME:Europäischer Menschenrechtsdialog
X-ORIGINAL-URL:https://www.human-rights-year.com/de/
X-WR-CALDESC:Veranstaltungen für Europäischer Menschenrechtsdialog
BEGIN:VTIMEZONE
TZID:Europe/Berlin
BEGIN:DAYLIGHT
TZOFFSETFROM:+0100
TZOFFSETTO:+0200
TZNAME:CEST
DTSTART:20190331T010000
END:DAYLIGHT
BEGIN:STANDARD
TZOFFSETFROM:+0200
TZOFFSETTO:+0100
TZNAME:CET
DTSTART:20191027T010000
END:STANDARD
END:VTIMEZONE
BEGIN:VEVENT
DTSTART;TZID=Europe/Berlin:20191127T110000
DTEND;TZID=Europe/Berlin:20191127T180000
DTSTAMP:20260423T013834
CREATED:20191119T102919Z
LAST-MODIFIED:20191127T083524Z
UID:2817-1574852400-1574877600@www.human-rights-year.com
SUMMARY:27.11.2019 Moskau / Konferenz «Institutionen und Praktiken der Menschenrechtsgarantien in Deutschland und Russland. Ähnlichkeiten und Unterschiede»
DESCRIPTION:WANN: 27.11.2019\, 11:00 – 18:00 UHR \nWO: Moskau\, Karetny Riad 5/10\n„Memorial“ \n  \nKonferenz «Institutionen und Praktiken der Menschenrechtsgarantien in Deutschland und Russland. Ähnlichkeiten und Unterschiede» \n27. November 2019. Moskau \nDie Erfahrung des größten westeuropäischen Landes\, Deutschland\, bei der institutionellen und praktischen Umsetzung der Menschenrechte ist für Russland zweifellos wertvoll und bietet die Möglichkeit\, die in unseren Ländern in diesem Bereich erzielten Ansätze\, Regelungen und Ergebnisse zu vergleichen. \nZusätzliches Interesse an der Frage der Menschenrechte in Deutschland entsteht durch das regelmäßige Berichten der offiziellen russischen Propaganda zu den Themen Übermacht von Migranten\, Zerstörung der Familie durch Jugendstrafrecht und Zwang zur Toleranz\, der angeblich Europa im Allgemeinen und Deutschland im Besonderen umfasst. Gleichzeitig rechtfertigt die gleiche Propaganda Gewalt und Unterdrückung gegen Teilnehmer an friedlichen Protesten in Russland durch europäische und insbesondere deutsche Erfahrungen. \n  \nKonferenzprogramm \n\n\n\n\n \n\n\n11.00-11.25 \n \nEröffnung der Konferenz\n\n\n11.25 – 12.55\nPanel 1: Die Rolle der lokalen Behörden beim Schutz der Menschenrechte\n\n\nYulia Galyamina\, Abgeordnete der Moskauer Gemeinde Timiryazevsky\, Mitorganisatorin der Schule für lokale Selbstverwaltung\, des Kongresses der unabhängigen Gemeindevertreter und des Verbandes der unabhängigen Abgeordneten.\nOlaf Kühl\, Mitglied des Senats von Berlin (BRD)\nElena Russakova\, Leiterin des Gemeindebezirks Gagarinsky\nAndrey Pivovarov\, Sekretär der Vereinigung unabhängiger Abgeordneter „Vereinigte Demokraten“\nModeriert Sergej Davidis – Mitglied des Rates\, Programmleiter des Rechtszentrums «Memorial»\n\n\n\n\n12.55-13.05 \n \nKaffeepause\n\n\n13.05-14.35\nPanel 2. Versammlungsfreiheit\, Garantien für deren Umsetzung und Verstöße in Russland und Deutschland.\n\n\nOlaf Kühl\, Mitglied des Senats von Berlin (Deutschland)\nDenis Shedov\, Rechtsanwalt\, Rechtszentrum «Memorial» und OVD-Info\nOleg Kozlovski\, Russlandexperte «Amnesty International»\nMaria Eismont\, Rechtsanwältin\nModeriert Grigori Koffmann -Mitbegründer des Forums russischsprachiger Europäer e.V. (BRD)\n\n\n\n\n14.35-15.05 \n \nMittagessen\n\n\n15.05 – 16.35\nPanel 3. Menschenrechte und Bekämpfung von Extremismus und Terrorismus in Deutschland und Russland.\n\n\nAlexej Boris\, Menschenrechtler (BRD)\nMikhail Akhmetiev\, Experte des Zentrums «Sowa»\nDaria Kostromina\, Expertin des Programms zur Unterstützung politischer Gefangener des Rechtszentrums «Memorial»\nVitalij Ponomarjow\, Leiter des Programms «Gegenwirkung der Fälschung von Strafverfahren zum islamischen Extremismus»\nModeriert Oleg Kozlovski\, Russlandexperte «Amnesty International»\n\n\n\n\n16.35-16.45 \n \nKaffeepause\n\n\n16.45-18.15\nPanel 4. Migrations- und Asylprobleme in Deutschland und Russland\, Interaktion von Kulturen und Religionen.\n\n\nSwetlana Gannuschkina\, Vorsitzende des Komitees «Bürgerhilfe»\, Mitglied des Rates und Leiterin des Netzwerks „Migration und Recht“\, Rechtszentrum «Memorial»\nAnke Giesen\, Mitarbeiterin des Berliner Kultusministeriums\, Mitglied des Vorstands des Deutschen und Internationalen Rechtszentrums «Memorial» (BRD)\nAlexej Boris\, Menschenrechtler (BRD)\nGrigori Koffmann\, Schauspieler und Regisseur (BRD)\nModeriert Irina Shcherbakova\, Vorstandsmitglied\, Programmleiterin des Internationalen Rechtszentrums «Memorial»\n\n\n\n\n\n  \nEvent bei Facebook  \n  \n  \n 
URL:https://www.human-rights-year.com/de/event/27-11-2019-moskau-memorial-konferenz-realitaet-gegen-spekulation-menschenrechte-in-deutschland/
LOCATION:Мемориал\, Каретный ряд 5/10\, Москва\, Российская Федерация
CATEGORIES:Veranstaltungen
ATTACH;FMTTYPE=image/jpeg:https://www.human-rights-year.com/wp-content/uploads/2019/11/memor.jpg
ORGANIZER;CN="FRE%20e.V.":MAILTO:eurorussianforum@gmail.com
END:VEVENT
END:VCALENDAR