BEGIN:VCALENDAR
VERSION:2.0
PRODID:-//Europäischer Menschenrechtsdialog - ECPv5.16.3.1//NONSGML v1.0//EN
CALSCALE:GREGORIAN
METHOD:PUBLISH
X-WR-CALNAME:Europäischer Menschenrechtsdialog
X-ORIGINAL-URL:https://www.human-rights-year.com/de/
X-WR-CALDESC:Veranstaltungen für Europäischer Menschenrechtsdialog
BEGIN:VTIMEZONE
TZID:Europe/Berlin
BEGIN:DAYLIGHT
TZOFFSETFROM:+0100
TZOFFSETTO:+0200
TZNAME:CEST
DTSTART:20190331T010000
END:DAYLIGHT
BEGIN:STANDARD
TZOFFSETFROM:+0200
TZOFFSETTO:+0100
TZNAME:CET
DTSTART:20191027T010000
END:STANDARD
END:VTIMEZONE
BEGIN:VEVENT
DTSTART;TZID=Europe/Berlin:20191126T180000
DTEND;TZID=Europe/Berlin:20191126T200000
DTSTAMP:20260424T130100
CREATED:20191119T102349Z
LAST-MODIFIED:20191125T090332Z
UID:2816-1574791200-1574798400@www.human-rights-year.com
SUMMARY:26.11.2019 Moskau / Die Realität gegen Spekulation: Menschenrechte in Deutschland
DESCRIPTION:WANN: 26.11.2019\, 18:00 – 20:00 UHR \nWO: Moskau\, Bolschoi Trehsvyatytelsky Per. 3\nHochschule für Wirtschaft  \nIst die Jugendjustiz so schrecklich\, diskriminiert man die russischsprachige Bevölkerung\, sind Flüchtlinge gefährlich\, werden DemonstrantInnen geschlagen? \nDas können Sie bei einem Treffen mit deutschen MenschenrechtsaktivistInnen und Persönlichkeiten des öffentlichen Lebens im Rahmen des Deutsch-Russischen Jahres der Menschenrechte erfahren. \n Anke Giesen\, Abteilungsleiterin im Berliner Kultusministerium\, wird darüber sprechen\, wie die Rechte von Kindern und Jugendlichen geschützt werden und wie die Jugendjustiz funktioniert. \n Olaf Kühl vom Berliner Senat erklärt\, wie die politischen Rechte der Bürger geachtet werden\, einschließlich des Rechts\, an verschiedenen Aktionen teilzunehmen und sich an der Verwaltung der Stadt zu beteiligen\, etc. \n Menschenrechtsverteidiger Alexei Boris – über die Lösung des „Flüchtlingsproblems“\, den Schutz ihrer Rechte und das Verhalten des Staates gegenüber den Geflüchteten und ihren GegnerInnen. \n Schauspieler und Regisseur Grigori Koffmann – spricht darüber\, wie die Rechte der russischsprachigen Menschen\, einschließlich ihrer eigenen kulturellen Identität\, geschützt werden; wie die russische Kultur in Deutschland lebt. \nDie TeilnehmerInnen der deutschen Delegation werden die Fragen der TeilnehmerInnen beantworten. \nOrganisatoren: „Forum der russischsprachigen Europäer“ und „Memorial“ mit Unterstützung des Auswärtigen Amtes. \nDer Eintritt ist frei \n  \nIllustration (СС)
URL:https://www.human-rights-year.com/de/event/26-11-2019-st-petersburg-die-realitaet-gegen-spekulation-menschenrechte-in-deutschland/
LOCATION:НИУ ВШЭ\, Большой Трехсвятительский пер.\, д.3\, Москва\, Российская Федерация
CATEGORIES:Veranstaltungen
ATTACH;FMTTYPE=image/jpeg:https://www.human-rights-year.com/wp-content/uploads/2019/11/B_Tryohsvyatitelsky_Lane_Jan_2010_01.jpg
ORGANIZER;CN="FRE%20e.V.":MAILTO:eurorussianforum@gmail.com
END:VEVENT
END:VCALENDAR